BEGIN:VCALENDAR
VERSION:2.0
PRODID:-//Squamish Rock Guides: Rock Climbing Guiding &amp; Instruction - ECPv6.6.4.2//NONSGML v1.0//EN
CALSCALE:GREGORIAN
METHOD:PUBLISH
X-WR-CALNAME:Squamish Rock Guides: Rock Climbing Guiding &amp; Instruction
X-ORIGINAL-URL:https://squamishrockguides.com
X-WR-CALDESC:Events for Squamish Rock Guides: Rock Climbing Guiding &amp; Instruction
REFRESH-INTERVAL;VALUE=DURATION:PT1H
X-Robots-Tag:noindex
X-PUBLISHED-TTL:PT1H
BEGIN:VTIMEZONE
TZID:America/Vancouver
BEGIN:DAYLIGHT
TZOFFSETFROM:-0800
TZOFFSETTO:-0700
TZNAME:PDT
DTSTART:20250309T100000
END:DAYLIGHT
BEGIN:STANDARD
TZOFFSETFROM:-0700
TZOFFSETTO:-0800
TZNAME:PST
DTSTART:20251102T090000
END:STANDARD
END:VTIMEZONE
BEGIN:VEVENT
DTSTART;TZID=America/Vancouver:20250301T090000
DTEND;TZID=America/Vancouver:20250301T170000
DTSTAMP:20260420T010812
CREATED:20240912T190150Z
LAST-MODIFIED:20240912T190150Z
UID:2455-1740819600-1740848400@squamishrockguides.com
SUMMARY:Rescue Systems
DESCRIPTION:Would you know what to do if your partner or an adjacent party were injured on a multi-pitch climb? Regardless of whether you lead or second\, basic rescue skills are critical once you begin multi-pitch climbing. Instructional topics include: Preparedness\, communication and rescue decision making. Escaping a loaded belay system from above or below. Rope ascending techniques with the use of prussik cord. Setting up a basic Z-pulley haul system. Friction brakes for lowering an injured climber. Tandem rappelling techniques for use with an injured climber. The goal of this program is to empower you to carry out a straightforward
URL:https://squamishrockguides.com/course/rescue-systems-25/
END:VEVENT
BEGIN:VEVENT
DTSTART;TZID=America/Vancouver:20250302T090000
DTEND;TZID=America/Vancouver:20250302T170000
DTSTAMP:20260420T010812
CREATED:20240912T200639Z
LAST-MODIFIED:20240912T200639Z
UID:2497-1740906000-1740934800@squamishrockguides.com
SUMMARY:Crack Technique
DESCRIPTION:The goal of this program is simple: to help you improve as a crack climber. At its foundation\, climbing is all about movement over stone and Squamish has an incredibly diverse selection of crack climbs on which to develop technique. No matter what your ability\, a day devoted to helping you relax and move more efficiently will benefit your technique and improve your overall experience. This program can be tailored to novice and advanced climbers alike and we’ll match you with the right guide for your goal. Whether you want to learn basic hand jamming or how to battle those
URL:https://squamishrockguides.com/course/crack-technique-15/
END:VEVENT
BEGIN:VEVENT
DTSTART;TZID=America/Vancouver:20250308T090000
DTEND;TZID=America/Vancouver:20250308T170000
DTSTAMP:20260420T010812
CREATED:20240912T192450Z
LAST-MODIFIED:20240912T192450Z
UID:2463-1741424400-1741453200@squamishrockguides.com
SUMMARY:Sport Climbing
DESCRIPTION:Learning outdoor sport climbing skills and lead theory from a guide is the safest way to begin a long\, prosperous and injury-free leading career.
URL:https://squamishrockguides.com/course/sport-climbing-48/
END:VEVENT
BEGIN:VEVENT
DTSTART;TZID=America/Vancouver:20250308T090000
DTEND;TZID=America/Vancouver:20250308T170000
DTSTAMP:20260420T010812
CREATED:20240913T204128Z
LAST-MODIFIED:20240913T204128Z
UID:2504-1741424400-1741453200@squamishrockguides.com
SUMMARY:Introduction to Rock Climbing
DESCRIPTION:The perfect program for total beginners!
URL:https://squamishrockguides.com/course/introduction-to-rock-climbing-65/
END:VEVENT
BEGIN:VEVENT
DTSTART;TZID=America/Vancouver:20250309T090000
DTEND;TZID=America/Vancouver:20250309T170000
DTSTAMP:20260420T010812
CREATED:20240912T193059Z
LAST-MODIFIED:20240912T193059Z
UID:2477-1741510800-1741539600@squamishrockguides.com
SUMMARY:Sport Multi Pitch Skills
DESCRIPTION:Sport multi-pitch climbing allows you to experience the thrill of climbing high without having to first master the art of traditional climbing. This course will give you the skills to use bolted anchors to belay a second behind you\, mange belay stations\, and complete a multi stage descent. You will spend the day practicing these skills under the direct supervision of a guide. Safety and hazard recognition in the multi-pitch environment. Route selection\, equipment and multi-pitch preparation. Rope handling and belay station management. Lead and top-down belay techniques. Protection strategies and route finding. Multi-pitch retreat and contingency plans. Upon completion
URL:https://squamishrockguides.com/course/sport-multi-pitch-skills-46/
END:VEVENT
BEGIN:VEVENT
DTSTART;TZID=America/Vancouver:20250309T090000
DTEND;TZID=America/Vancouver:20250309T170000
DTSTAMP:20260420T010812
CREATED:20240913T205918Z
LAST-MODIFIED:20240913T205918Z
UID:2519-1741510800-1741539600@squamishrockguides.com
SUMMARY:Top-rope Anchors
DESCRIPTION:This 8-hour program is best suited to indoor or outdoor climbers with a small amount of belay and climbing experience who want to make the transition to independent\, outdoor top-roping. The instructional topics for the day will include crag safety\, knots\, anchor integrity\, bolt anchor construction\, tree anchor construction and multi-point anchor construction. There will be time for climbing and technique coaching and the day will conclude with a rappel. Upon completion of the program\, participants should have the necessary skills to begin top-rope climbing outdoors with a partner of equal or greater ability. Register for Introduction to Rock Climbing
URL:https://squamishrockguides.com/course/top-rope-anchors-62/
END:VEVENT
BEGIN:VEVENT
DTSTART;TZID=America/Vancouver:20250315T090000
DTEND;TZID=America/Vancouver:20250315T170000
DTSTAMP:20260420T010812
CREATED:20240913T211621Z
LAST-MODIFIED:20240913T211621Z
UID:2534-1742029200-1742058000@squamishrockguides.com
SUMMARY:Traditional Lead Climbing – 1 Day
DESCRIPTION:This one-day program is an accelerated version of our popular Traditional Lead Climbing – 2 Day course and has identical content. We recommend that registrants in this program have a background leading sport climbs and understand basic lead climbing principles to better prepare them for the faster pace. Upon completion of the course\, participants will have the skills to safely lead single pitch rock climbs on their own. For those interested in the Traditional Lead Climbing – 1 Day course\, we recommend following it with our Multi-pitch Skills course which is always scheduled on the same weekend. The combination of
URL:https://squamishrockguides.com/course/traditional-lead-climbing-1-day-58/
END:VEVENT
BEGIN:VEVENT
DTSTART;TZID=America/Vancouver:20250315T090000
DTEND;TZID=America/Vancouver:20250316T170000
DTSTAMP:20260420T010812
CREATED:20240913T212424Z
LAST-MODIFIED:20240913T212424Z
UID:2548-1742029200-1742144400@squamishrockguides.com
SUMMARY:Traditional Lead – Multi Pitch Skills Combo
DESCRIPTION:One of our most popular programs. The course combines the 1 day traditional lead climbing course with the multi pitch skills course in the same weekend. On day one we will focus on the fundamentals of placing bombproof protection\, building solid anchors\, and lead climbing strategy. Participants can expect to progress from mock lead climbs with a back up top rope to supervised real leads. A guide will be coaching from an adjacent rope for extra security and maximal learning outcomes. On day two we will build on the previous days curriculum adding multi-pitch systems such as rope and belay
URL:https://squamishrockguides.com/course/traditional-lead-multi-pitch-skills-combo-31/
END:VEVENT
BEGIN:VEVENT
DTSTART;TZID=America/Vancouver:20250316T090000
DTEND;TZID=America/Vancouver:20250316T170000
DTSTAMP:20260420T010812
CREATED:20240913T213046Z
LAST-MODIFIED:20240913T213046Z
UID:2563-1742115600-1742144400@squamishrockguides.com
SUMMARY:Traditional Multi Pitch Skills
DESCRIPTION:Multi-pitch rock climbing is one of the most exciting aspects of the sport. The exhilaration of the being high off the ground combined with satisfaction gained from completing a long climb make for a true peak experience! Our multi-pitch skills course will teach how safely and confidently tackle these objectives. This one day course is designed for climbers who have practiced some single-pitch traditional lead climbing and want to make the transition to the multi-pitch environment. The morning is spent learning multi pitch technical systems with hands on practice by the participants. The afternoon is composed of supervised multi-pitch climbing scenarios.
URL:https://squamishrockguides.com/course/traditional-multi-pitch-skills-3/
END:VEVENT
BEGIN:VEVENT
DTSTART;TZID=America/Vancouver:20250322T090000
DTEND;TZID=America/Vancouver:20250322T170000
DTSTAMP:20260420T010812
CREATED:20240913T204129Z
LAST-MODIFIED:20240913T204129Z
UID:2505-1742634000-1742662800@squamishrockguides.com
SUMMARY:Introduction to Rock Climbing
DESCRIPTION:The perfect program for total beginners!
URL:https://squamishrockguides.com/course/introduction-to-rock-climbing-66/
END:VEVENT
BEGIN:VEVENT
DTSTART;TZID=America/Vancouver:20250323T090000
DTEND;TZID=America/Vancouver:20250323T170000
DTSTAMP:20260420T010812
CREATED:20240913T205919Z
LAST-MODIFIED:20240913T205919Z
UID:2520-1742720400-1742749200@squamishrockguides.com
SUMMARY:Top-rope Anchors
DESCRIPTION:This 8-hour program is best suited to indoor or outdoor climbers with a small amount of belay and climbing experience who want to make the transition to independent\, outdoor top-roping. The instructional topics for the day will include crag safety\, knots\, anchor integrity\, bolt anchor construction\, tree anchor construction and multi-point anchor construction. There will be time for climbing and technique coaching and the day will conclude with a rappel. Upon completion of the program\, participants should have the necessary skills to begin top-rope climbing outdoors with a partner of equal or greater ability. Register for Introduction to Rock Climbing
URL:https://squamishrockguides.com/course/top-rope-anchors-63/
END:VEVENT
BEGIN:VEVENT
DTSTART;TZID=America/Vancouver:20250329T090000
DTEND;TZID=America/Vancouver:20250329T170000
DTSTAMP:20260420T010812
CREATED:20240912T190151Z
LAST-MODIFIED:20240912T190151Z
UID:2456-1743238800-1743267600@squamishrockguides.com
SUMMARY:Rescue Systems
DESCRIPTION:Would you know what to do if your partner or an adjacent party were injured on a multi-pitch climb? Regardless of whether you lead or second\, basic rescue skills are critical once you begin multi-pitch climbing. Instructional topics include: Preparedness\, communication and rescue decision making. Escaping a loaded belay system from above or below. Rope ascending techniques with the use of prussik cord. Setting up a basic Z-pulley haul system. Friction brakes for lowering an injured climber. Tandem rappelling techniques for use with an injured climber. The goal of this program is to empower you to carry out a straightforward
URL:https://squamishrockguides.com/course/rescue-systems-26/
END:VEVENT
BEGIN:VEVENT
DTSTART;TZID=America/Vancouver:20250329T090000
DTEND;TZID=America/Vancouver:20250329T170000
DTSTAMP:20260420T010812
CREATED:20240912T192450Z
LAST-MODIFIED:20240912T192450Z
UID:2464-1743238800-1743267600@squamishrockguides.com
SUMMARY:Sport Climbing
DESCRIPTION:Learning outdoor sport climbing skills and lead theory from a guide is the safest way to begin a long\, prosperous and injury-free leading career.
URL:https://squamishrockguides.com/course/sport-climbing-49/
END:VEVENT
BEGIN:VEVENT
DTSTART;TZID=America/Vancouver:20250329T090000
DTEND;TZID=America/Vancouver:20250329T170000
DTSTAMP:20260420T010812
CREATED:20240913T204129Z
LAST-MODIFIED:20240913T204129Z
UID:2506-1743238800-1743267600@squamishrockguides.com
SUMMARY:Introduction to Rock Climbing
DESCRIPTION:The perfect program for total beginners!
URL:https://squamishrockguides.com/course/introduction-to-rock-climbing-67/
END:VEVENT
BEGIN:VEVENT
DTSTART;TZID=America/Vancouver:20250330T090000
DTEND;TZID=America/Vancouver:20250330T170000
DTSTAMP:20260420T010812
CREATED:20240912T193100Z
LAST-MODIFIED:20240912T193100Z
UID:2478-1743325200-1743354000@squamishrockguides.com
SUMMARY:Sport Multi Pitch Skills
DESCRIPTION:Sport multi-pitch climbing allows you to experience the thrill of climbing high without having to first master the art of traditional climbing. This course will give you the skills to use bolted anchors to belay a second behind you\, mange belay stations\, and complete a multi stage descent. You will spend the day practicing these skills under the direct supervision of a guide. Safety and hazard recognition in the multi-pitch environment. Route selection\, equipment and multi-pitch preparation. Rope handling and belay station management. Lead and top-down belay techniques. Protection strategies and route finding. Multi-pitch retreat and contingency plans. Upon completion
URL:https://squamishrockguides.com/course/sport-multi-pitch-skills-47/
END:VEVENT
BEGIN:VEVENT
DTSTART;TZID=America/Vancouver:20250330T090000
DTEND;TZID=America/Vancouver:20250330T170000
DTSTAMP:20260420T010812
CREATED:20240913T205919Z
LAST-MODIFIED:20240913T205919Z
UID:2521-1743325200-1743354000@squamishrockguides.com
SUMMARY:Top-rope Anchors
DESCRIPTION:This 8-hour program is best suited to indoor or outdoor climbers with a small amount of belay and climbing experience who want to make the transition to independent\, outdoor top-roping. The instructional topics for the day will include crag safety\, knots\, anchor integrity\, bolt anchor construction\, tree anchor construction and multi-point anchor construction. There will be time for climbing and technique coaching and the day will conclude with a rappel. Upon completion of the program\, participants should have the necessary skills to begin top-rope climbing outdoors with a partner of equal or greater ability. Register for Introduction to Rock Climbing
URL:https://squamishrockguides.com/course/top-rope-anchors-64/
END:VEVENT
END:VCALENDAR